BEGIN:VCALENDAR
VERSION:2.0
PRODID:-//Sabre//Sabre VObject 4.5.8//EN
CALSCALE:GREGORIAN
NAME:Pfarreiengemeinschaft Aschberg
X-WR-CALNAME:Pfarreiengemeinschaft Aschberg
BEGIN:VEVENT
UID:sabre-vobject-ad1d4228-b797-4fef-882c-5db937d2d775
DTSTAMP:20260425T130039Z
SUMMARY:Pfarrgottesdienst als Vorabendmesse (MB)
DESCRIPTION:https://pg-aschberg.de/pfarrgottesdienst-als-vorabendmesse-mb_i
 d45085
DTSTART;TZID=Europe/Berlin:20260425T183000
DURATION:PT30M
LOCATION:Pfarrkirche St. Vitus\, Am Kirchpl. 2\, 89353 Glött
END:VEVENT
BEGIN:VEVENT
UID:sabre-vobject-8abb130e-14e3-4a57-b7cb-bd47e0e40806
DTSTAMP:20260425T130039Z
SUMMARY:Heilige Messe (MB)
DESCRIPTION:https://pg-aschberg.de/heilige-messe-mb_id45075
DTSTART;TZID=Europe/Berlin:20260429T183000
DURATION:PT30M
LOCATION:Pfarrkirche St. Vitus\, Am Kirchpl. 2\, 89353 Glött
END:VEVENT
BEGIN:VEVENT
UID:sabre-vobject-8a2d07b2-0dec-4f2b-b810-d1d8323cb76e
DTSTAMP:20260425T130039Z
SUMMARY:Feierliche Maiandacht mit Prozession zur Grotte (MB)
DESCRIPTION:https://pg-aschberg.de/feierliche-maiandacht-mit-prozession-zur
 -grotte-mb_id45076
DTSTART;TZID=Europe/Berlin:20260501T180000
DURATION:PT30M
LOCATION:Pfarrkirche St. Vitus\, Am Kirchpl. 2\, 89353 Glött
END:VEVENT
END:VCALENDAR
