BEGIN:VCALENDAR
VERSION:2.0
PRODID:-//Sabre//Sabre VObject 4.5.8//EN
CALSCALE:GREGORIAN
BEGIN:VEVENT
UID:sabre-vobject-acd1baf2-3e9d-4392-bc75-902f1204009a
DTSTAMP:20260425T125503Z
SUMMARY:Dankandacht mit den Erstkommunionkindern von Altenbaindt und Weisin
 gen (BT)
DESCRIPTION:https://pg-aschberg.de/dankandacht-mit-den-erstkommunionkindern
 -von-altenbaindt-und-weisingen-bt_id45092
DTSTART;TZID=Europe/Berlin:20260426T173000
DURATION:PT30M
LOCATION:Pfarrkirche St. Xystus\, Hauptstraße 47\, 89438 Weisingen
END:VEVENT
END:VCALENDAR
