BEGIN:VCALENDAR
VERSION:2.0
PRODID:-//Sabre//Sabre VObject 4.5.8//EN
CALSCALE:GREGORIAN
BEGIN:VEVENT
UID:sabre-vobject-f6354a03-d612-4aab-abee-7cb011d62387
DTSTAMP:20260425T125501Z
SUMMARY:Pfarrgottesdienst mit Erstkommunion (BT)
DESCRIPTION:https://pg-aschberg.de/pfarrgottesdienst-mit-erstkommunion-bt_i
 d45091
DTSTART;TZID=Europe/Berlin:20260426T100000
DURATION:PT30M
LOCATION:Pfarrkirche St. Xystus\, Hauptstraße 47\, 89438 Weisingen
END:VEVENT
END:VCALENDAR
