BEGIN:VCALENDAR
VERSION:2.0
PRODID:-//Sabre//Sabre VObject 4.5.8//EN
CALSCALE:GREGORIAN
BEGIN:VEVENT
UID:sabre-vobject-e3ad052c-1ec2-42bc-abc8-9893dd48b73f
DTSTAMP:20260425T125351Z
SUMMARY:Feierliche Maiandacht (BT)
DESCRIPTION:https://pg-aschberg.de/feierliche-maiandacht-bt_id45090
DTSTART;TZID=Europe/Berlin:20260501T180000
DURATION:PT30M
LOCATION:Pfarrkirche St. Martin\, Augsburger Straße 4\, 89438 Holzheim
END:VEVENT
END:VCALENDAR
