BEGIN:VCALENDAR
VERSION:2.0
PRODID:-//Sabre//Sabre VObject 4.5.8//EN
CALSCALE:GREGORIAN
BEGIN:VEVENT
UID:sabre-vobject-e97d6e87-0a86-42d6-a346-23544be6bb84
DTSTAMP:20260425T125352Z
SUMMARY:Heilige Messe (BT)
DESCRIPTION:https://pg-aschberg.de/heilige-messe-bt_id45089
DTSTART;TZID=Europe/Berlin:20260429T183000
DURATION:PT30M
LOCATION:Pfarrkirche St. Martin\, Augsburger Straße 4\, 89438 Holzheim
END:VEVENT
END:VCALENDAR
