BEGIN:VCALENDAR
VERSION:2.0
PRODID:-//Sabre//Sabre VObject 4.5.8//EN
CALSCALE:GREGORIAN
BEGIN:VEVENT
UID:sabre-vobject-86d4fc4d-445b-4505-947d-921da5b6884e
DTSTAMP:20260425T125350Z
SUMMARY:Rosenkranz
DESCRIPTION:https://pg-aschberg.de/rosenkranz_id45088
DTSTART;TZID=Europe/Berlin:20260427T170000
DURATION:PT30M
LOCATION:Pfarrkirche St. Martin\, Augsburger Straße 4\, 89438 Holzheim
END:VEVENT
END:VCALENDAR
