BEGIN:VCALENDAR
VERSION:2.0
PRODID:-//Sabre//Sabre VObject 4.5.8//EN
CALSCALE:GREGORIAN
BEGIN:VEVENT
UID:sabre-vobject-1f6c1d0f-ad98-434f-8f05-4ff7817d0add
DTSTAMP:20260425T125350Z
SUMMARY:Wortgottesfeier
DESCRIPTION:https://pg-aschberg.de/wortgottesfeier_id45087
DTSTART;TZID=Europe/Berlin:20260426T100000
DURATION:PT30M
LOCATION:Pfarrkirche St. Martin\, Augsburger Straße 4\, 89438 Holzheim
END:VEVENT
END:VCALENDAR
