BEGIN:VCALENDAR
VERSION:2.0
PRODID:-//Sabre//Sabre VObject 4.5.8//EN
CALSCALE:GREGORIAN
BEGIN:VEVENT
UID:sabre-vobject-fb7b13ea-f324-4518-9cff-6718b175ffbb
DTSTAMP:20260425T130518Z
SUMMARY:Gesprächs- und Beichtgelegenheit (MB)
DESCRIPTION:https://pg-aschberg.de/gespraechs-und-beichtgelegenheit-mb_id45
 086
DTSTART;TZID=Europe/Berlin:20260425T173000
DURATION:PT30M
LOCATION:Pfarrkirche St. Martin\, Augsburger Straße 4\, 89438 Holzheim
END:VEVENT
END:VCALENDAR
