BEGIN:VCALENDAR
VERSION:2.0
PRODID:-//Sabre//Sabre VObject 4.5.8//EN
CALSCALE:GREGORIAN
BEGIN:VEVENT
UID:sabre-vobject-d4f0611f-19dc-4050-8a89-55af070038f1
DTSTAMP:20260425T125455Z
SUMMARY:Pfarrgottesdienst als Vorabendmesse (MB)
DESCRIPTION:https://pg-aschberg.de/pfarrgottesdienst-als-vorabendmesse-mb_i
 d45085
DTSTART;TZID=Europe/Berlin:20260425T183000
DURATION:PT30M
LOCATION:Pfarrkirche St. Vitus\, Am Kirchpl. 2\, 89353 Glött
END:VEVENT
END:VCALENDAR
