BEGIN:VCALENDAR
VERSION:2.0
PRODID:-//Sabre//Sabre VObject 4.5.8//EN
CALSCALE:GREGORIAN
BEGIN:VEVENT
UID:sabre-vobject-36eab9bc-beec-4c63-912f-daf3af16e012
DTSTAMP:20260425T142109Z
SUMMARY:Pfarrgottesdienst als Vorabendmesse (BT)
DESCRIPTION:https://pg-aschberg.de/pfarrgottesdienst-als-vorabendmesse-bt_i
 d45084
DTSTART;TZID=Europe/Berlin:20260425T183000
DURATION:PT30M
LOCATION:Pfarrkirche St. Nikolaus\, Am Kirchberg 6-10\, 89438 Eppisburg
END:VEVENT
END:VCALENDAR
