BEGIN:VCALENDAR
VERSION:2.0
PRODID:-//Sabre//Sabre VObject 4.5.8//EN
CALSCALE:GREGORIAN
BEGIN:VEVENT
UID:sabre-vobject-85113897-64cb-455e-903c-9ca3f990af35
DTSTAMP:20260425T125351Z
SUMMARY:Pfarrgottesdienst (MB)
DESCRIPTION:https://pg-aschberg.de/pfarrgottesdienst-mb_id45083
DTSTART;TZID=Europe/Berlin:20260426T083000
DURATION:PT30M
LOCATION:Pfarrkirche St. Peter und Paul\, Kirchstraße 6\, 89438 Ellerbach
END:VEVENT
END:VCALENDAR
