BEGIN:VCALENDAR
VERSION:2.0
PRODID:-//Sabre//Sabre VObject 4.5.8//EN
CALSCALE:GREGORIAN
BEGIN:VEVENT
UID:sabre-vobject-56f9c999-ff6d-4c37-aab5-ddcd69597c26
DTSTAMP:20260425T142148Z
SUMMARY:Heilige Messe (BT)
DESCRIPTION:https://pg-aschberg.de/heilige-messe-bt_id45082
DTSTART;TZID=Europe/Berlin:20260430T183000
DURATION:PT30M
LOCATION:Pfarrkirche St. Stephan\, St.-Stephanus-Straße 5\, 89438 Altenbai
 ndt
END:VEVENT
END:VCALENDAR
