BEGIN:VCALENDAR
VERSION:2.0
PRODID:-//Sabre//Sabre VObject 4.5.8//EN
CALSCALE:GREGORIAN
BEGIN:VEVENT
UID:sabre-vobject-b0eac635-242b-426d-af3f-d4dd727b2b15
DTSTAMP:20260425T142243Z
SUMMARY:Pfarrgottesdienst mit Erstkommunion (MB)
DESCRIPTION:https://pg-aschberg.de/pfarrgottesdienst-mit-erstkommunion-mb_i
 d45081
DTSTART;TZID=Europe/Berlin:20260426T100000
DURATION:PT30M
LOCATION:Pfarrkirche St. Stephan\, St.-Stephanus-Straße 5\, 89438 Altenbai
 ndt
END:VEVENT
END:VCALENDAR
