BEGIN:VCALENDAR
VERSION:2.0
PRODID:-//Sabre//Sabre VObject 4.5.8//EN
CALSCALE:GREGORIAN
BEGIN:VEVENT
UID:sabre-vobject-44d46f41-f69a-4920-9513-ab9cbdc2abf7
DTSTAMP:20260425T142243Z
SUMMARY:Festgottesdienst für die ganze PG (MB)
DESCRIPTION:https://pg-aschberg.de/festgottesdienst-fuer-die-ganze-pg-mb_id
 45080
DTSTART;TZID=Europe/Berlin:20260501T100000
DURATION:PT30M
LOCATION:Pfarrkirche St. Georg\, Kirchstraße 5\, 89344 Aislingen
END:VEVENT
END:VCALENDAR
