BEGIN:VCALENDAR
VERSION:2.0
PRODID:-//Sabre//Sabre VObject 4.5.8//EN
CALSCALE:GREGORIAN
BEGIN:VEVENT
UID:sabre-vobject-076b3acd-bcde-4133-8951-14988a5dbde3
DTSTAMP:20260425T142148Z
SUMMARY:Heilige Messe (BT)
DESCRIPTION:https://pg-aschberg.de/heilige-messe-bt_id45079
DTSTART;TZID=Europe/Berlin:20260428T183000
DURATION:PT30M
LOCATION:Pfarrkirche St. Georg\, Kirchstraße 5\, 89344 Aislingen
END:VEVENT
END:VCALENDAR
