BEGIN:VCALENDAR
VERSION:2.0
PRODID:-//Sabre//Sabre VObject 4.5.8//EN
CALSCALE:GREGORIAN
BEGIN:VEVENT
UID:sabre-vobject-89e06fb0-be3b-4b0b-85a1-bb60ecabd4a0
DTSTAMP:20260425T160828Z
SUMMARY:Laudes
DESCRIPTION:https://pg-aschberg.de/laudes_id45077
DTSTART;TZID=Europe/Berlin:20260425T073000
DURATION:PT30M
LOCATION:Pfarrkirche St. Martin\, Augsburger Straße 4\, 89438 Holzheim
END:VEVENT
END:VCALENDAR
