BEGIN:VCALENDAR
VERSION:2.0
PRODID:-//Sabre//Sabre VObject 4.5.8//EN
CALSCALE:GREGORIAN
BEGIN:VEVENT
UID:sabre-vobject-4fd622a2-65e2-47a6-a316-001a924ba191
DTSTAMP:20260425T125502Z
SUMMARY:Bibelstunde (Raum der Pfarrgemeinde im Mehr-Generationen-Haus)\, an
 schl. Komplet
DESCRIPTION:https://pg-aschberg.de/bibelstunde-raum-der-pfarrgemeinde-im-me
 hr-generationen-haus-anschl-komplet_id45073
DTSTART;TZID=Europe/Berlin:20260428T191500
DURATION:PT30M
LOCATION:Raum der Pfarrgemeinde im Mehr-Generationen-Haus\, Hauptstr. 43\, 
 89438 Holzheim-Weisingen
END:VEVENT
END:VCALENDAR
