BEGIN:VCALENDAR
VERSION:2.0
PRODID:-//Sabre//Sabre VObject 4.5.8//EN
CALSCALE:GREGORIAN
BEGIN:VEVENT
UID:sabre-vobject-1a6532dc-b821-4fb3-a528-eb24bbade29a
DTSTAMP:20260425T125455Z
SUMMARY:Heilige Messe (MB)
DESCRIPTION:https://pg-aschberg.de/heilige-messe-mb_id45072
DTSTART;TZID=Europe/Berlin:20260428T183000
DURATION:PT30M
LOCATION:Pfarrkirche St. Xystus\, Hauptstraße 47\, 89438 Weisingen
END:VEVENT
END:VCALENDAR
