BEGIN:VCALENDAR
VERSION:2.0
PRODID:-//Sabre//Sabre VObject 4.5.8//EN
CALSCALE:GREGORIAN
BEGIN:VEVENT
UID:sabre-vobject-5cb99c98-3ef4-4fbe-8711-4a852f38a95e
DTSTAMP:20260422T084112Z
SUMMARY:Abend der Versöhnung für die ganze PG
DESCRIPTION:https://pg-aschberg.de/abend-der-versoehnung-fuer-die-ganze-pg_
 id31518
DTSTART;TZID=Europe/Berlin:20251219T183000
DTEND;TZID=Europe/Berlin:20251219T200000
LOCATION:Pfarrkirche St. Georg\, Kirchstraße 5\, 89344 Aislingen
END:VEVENT
END:VCALENDAR
